BEGIN:VCALENDAR
VERSION:2.0
PRODID:-//https://www.hadriansholidays.com///NONSGML kigkonsult.se iCalcreator 2.10.15//
METHOD:PUBLISH
BEGIN:VEVENT
UID:20260423T160520UTC-1494vKUKAU@https://www.hadriansholidays.com/
DTSTAMP:20260423T160520Z
DESCRIPTION:Tour Details\nWe will be starting at Birdoswald Roman Fort (Eng
 lish Heritage) and I will be showing you the Roman Fort from Pre-Roman tim
 es and beyond (if we are lucky we will see some Newcastle University/EH ex
 cavations happening at the Fort). We will then walk along the best Roman W
 all Mile of Hadrian’s Wall (English Heritage) up into Gilsland Village\, i
 tself. On the way we will see the remains of a Roman milecastle\, Roman br
 idge\, a Roman centurial stone\, Roman Turrets and much more! We will be m
 aking a refreshment stop at Meg’s café\, home of the infamous Meg Teasdale
  of Mump’s Hall\, where I will talk about Sir Walter Scott\, his novels an
 d The Rebellious Reivers. (We will have a hot drink or juice and biscuits 
 there.) I will be laying out the scene of how vibrant and cosmopolitan Gil
 sland was in the Victorian/Edwardian/Modern Age. We will then walk to the 
 Newcastle-Carlisle Railway and I will be pointing out the Gilsland Spa Hot
 el. We will also have time to discover how life was lived in Gilsland Vill
 age throughout the ages and hearing about the history of the Village Hall/
 Reading Rooms. We will finish the tour at the rear of the Samson Inn after
  seeing the perfectly preserved Roman Milecastle 48 of Poltross/The King’s
  Stables. There will be variations on the tour depending on the date (but 
 no deviation of route) on Hadrian's Birthday\, St. Patrick's Day\, the ann
 iversary of the battle of Culloden\, Sir Walter Scott (birth and death dat
 es)\, Halloween and Saturnalia. There is a lot to find out about Gilsland 
 – The Story of St. Patrick\, Ghost Stories\, Ballads\, Jacobites (as seen 
 in the TV series - Outlander)\, King Arthur\, Ballads\, Myths and Legends…
 join the tour to find out more! It will be a standard tour covering a day 
 and is suitable for adults and children. Maximum 20 people. The tour is no
 t suitable\, unfortunately\, for wheelchair users due to the uneven nature
  of the ground we will be covering.\nLocation / Address to meet up\nBirdos
 wald Roman Fort · Address Gilsland\, Brampton CA8 7DD\nWe gather in the co
 urtyard for 10.45am\; walk along the Wall to Gilsland and aiming to be at 
 Meg’s Café for lunchtime – finishing at the rear of Samson Inn around 3pm.
 There is an English Heritage car park at Birdoswald where cars can be left
 . There is a fee to pay which is refunded at the Fort on purchase of ticke
 ts. (This can all be arranged at Birdoswald Fort.)\nThere is also a bus wh
 ich comes in from Haltwhistle Railway Station (185) which arrives at the B
 irdoswald Fort Car Park at 10:17. There is also a return bus from Gilsland
  Village at 15:31 which stops at the Birdoswald Fort Car Park at 15:37.(Pl
 ease check bus timetables before setting out or contact Catherine Jarvis f
 or more details nearer the time as timetables can change.)\nContact Detail
 s:\nCatherine Jarvis\, Tour LeaderMobile: +44 (0)7759 020885Landline: +44 
 (0)16977 47972Catherine@hadriansholidays.comTwitter: @hadriansholidayFB/Me
 ta: hadriansholidaysInstagram: hadriansholidaytours\nLanguages spoken: Eng
 lish\, Spanish\, Italian and French https://www.hadriansholidays.com/event
 /6-birdoswald-roman-fort-and-gilsland-village-through-the-ages-guided-walk
 -day
DTSTART:20221031T104500Z
DTEND:20221031T150000Z
LOCATION:Birdoswald Roman Fort (Birdoswald Roman Fort\, Gilsland\, Brampton
  CA8 7DD)
SUMMARY:Birdoswald Roman Fort and Gilsland Village through the Ages - Guide
 d Walk Day
URL:https://www.hadriansholidays.com/event/6-birdoswald-roman-fort-and-gils
 land-village-through-the-ages-guided-walk-day
END:VEVENT
END:VCALENDAR
